BEGIN:VCALENDAR
VERSION:2.0
PRODID:-//eventon.com NONSGML v1.0//EN
CALSCALE:GREGORIAN
METHOD:PUBLISH
BEGIN:VEVENT
UID:69ea3c2180a79
DTSTAMP:20260423T153457Z
DTSTART:20260606T073000Z
DTEND:20260606T173000Z
LOCATION:RMTI HQ 304 Tequesta Dr\,  #400
SUMMARY:RMTI Course Incorporating Orthobiologics
DESCRIPTION:A comprehensive training designed to enhance the clinicians’ 
 practice with PRP\,  BMA and Adipose. This one-day program includes didacti
 c faculty presentations\,  patient procedures\,  ultrasound information\,  
 and a hands-on multi-station techniques and procedures lab. Course: Incorpo
 rating Orthobiologics in Your Practice Facutly: TBA Time: 7:30 AM – 5:30 
 PM Tuition: $1\, 295 Technique[..]\nhttps://accelleratedbiologics.com/event
 s/june-6-2026-rmti-course-incorporating-orthobiologics/
URL:https://accelleratedbiologics.com/events/june-6-2026-rmti-course-incorporating-orthobiologics/
END:VEVENT
END:VCALENDAR