BEGIN:VCALENDAR
VERSION:2.0
PRODID:-//eventon.com NONSGML v1.0//EN
CALSCALE:GREGORIAN
METHOD:PUBLISH
BEGIN:VEVENT
UID:69ea3a575be3b
DTSTAMP:20260423T152719Z
DTSTART:20261017T073000Z
DTEND:20261017T173000Z
LOCATION:RMTI HQ 304 Tequesta Dr\,  #400
SUMMARY:RMTI Course Incorporating Orthobiologics
DESCRIPTION:A comprehensive training designed to enhance the clinicians’ 
 practice with PRP\,  BMA and Adipose. This one-day program includes didacti
 c faculty presentations\,  patient procedures\,  ultrasound information\,  
 and a hands-on multi-station techniques and procedures lab. Course: Incorpo
 rating Orthobiologics in Your Practice Date: October 17\,  2026 Time: 7:30 
 AM – 5:30 PM Tuition:[..]\nhttps://accelleratedbiologics.com/events/octob
 er-17-2026-rmti-course-incorporating-orthobiologics/
URL:https://accelleratedbiologics.com/events/october-17-2026-rmti-course-incorporating-orthobiologics/
END:VEVENT
END:VCALENDAR