BEGIN:VCALENDAR
VERSION:2.0
PRODID:-//eventon.com NONSGML v1.0//EN
CALSCALE:GREGORIAN
METHOD:PUBLISH
BEGIN:VEVENT
UID:69ea3d26254b8
DTSTAMP:20260423T153918Z
DTSTART:20260424T130000Z
DTEND:20260429T220000Z
LOCATION:Seattle Convention Center Summit Building 900 Pine St
SUMMARY:AMSSM Annual Meeting 2026 Leadership in Sports Medicine
DESCRIPTION:We’re thrilled to be participating once again in the AMSSM An
 nual Meeting 2026 in beautiful Seattle. This premier event brings together 
 leaders in sports medicine for a week of education\,  collaboration\,  and 
 innovation—and we’re excited to connect with colleagues from across the
  country. Stop by our booth to meet the[..]\nhttps://accelleratedbiologics.
 com/events/amssm-annual-meeting-2026-leadership-in-sports-medicine/
URL:https://accelleratedbiologics.com/events/amssm-annual-meeting-2026-leadership-in-sports-medicine/
END:VEVENT
END:VCALENDAR