BEGIN:VCALENDAR
VERSION:2.0
PRODID:-//eventon.com NONSGML v1.0//EN
CALSCALE:GREGORIAN
METHOD:PUBLISH
BEGIN:VEVENT
UID:69ea263417b3b
DTSTAMP:20260423T140124Z
DTSTART:20261112T150000Z
DTEND:20261115T000000Z
LOCATION:Orlando Convention Center 9800 International Dr
SUMMARY:AAPMR Annual Assembly 2026
DESCRIPTION:We’re looking forward to joining colleagues from across the c
 ountry at the 2026 AAPM&amp;R Annual Assembly—an unforgettable opportunit
 y to reconnect\,  recharge\,  and make a collective impact on the future of
  Physical Medicine &amp; Rehabilitation. This year’s Assembly brings toge
 ther leaders\,  innovators\,  and practitioners for high-level education\, 
  meaningful collaboration\,  and forward-thinking[..]\nhttps://accellerated
 biologics.com/events/aapmr-annual-assembly-2026/
URL:https://accelleratedbiologics.com/events/aapmr-annual-assembly-2026/
END:VEVENT
END:VCALENDAR